BEGIN:VCALENDAR
VERSION:2.0
PRODID:-//Plone.org//NONSGML plone.app.event//EN
X-WR-TIMEZONE:Europe/Madrid
BEGIN:VEVENT
SUMMARY:BIBLIOLAB 'Taller de joguines òptiques'
DTSTART;TZID=Europe/Madrid;VALUE=DATE-TIME:20221111T180000
DTEND;TZID=Europe/Madrid;VALUE=DATE-TIME:20221111T190000
DTSTAMP;VALUE=DATE-TIME:20260424T014223Z
UID:64ea6a27ef36dcd130ad7c0e66460a09
CREATED;VALUE=DATE-TIME:20221111T000000Z
CATEGORIES:Infantils
LOCATION:Biblioteca Can Milans - C/ Esglèsia, 6
ORGANIZER:Biblioteca Can Milans i Diputació de Barcelona
COMMENT:Preu: Gratuït
DESCRIPTION:A càrrec de Catàrtic
URL:https://caldetes.cat/document.php?id=8988
END:VEVENT
END:VCALENDAR