BEGIN:VCALENDAR
VERSION:2.0
PRODID:-//Plone.org//NONSGML plone.app.event//EN
X-WR-TIMEZONE:Europe/Madrid
BEGIN:VEVENT
SUMMARY:TALLER DE RISOTERÀPIA: 'L'alegria com a impuls de vida'
DTSTART;TZID=Europe/Madrid;VALUE=DATE-TIME:20221126T100000
DTEND;TZID=Europe/Madrid;VALUE=DATE-TIME:20221126T110000
DTSTAMP;VALUE=DATE-TIME:20260423T162521Z
UID:c40024c797eac08cec2d2597d3b87c49
CREATED;VALUE=DATE-TIME:20221126T000000Z
CATEGORIES:Cursos,Conferència
LOCATION:Espai Jove - La Fabriqueta (La Riera 5-9, entrada per Camí Ral).
ORGANIZER:Àrea de Dona i Polítiques d'Igualtat i Biblioteca Can Milans
DESCRIPTION:A càrrec de Sílvia López
URL:https://caldetes.cat/document.php?id=9040
END:VEVENT
END:VCALENDAR