BEGIN:VCALENDAR
VERSION:2.0
PRODID:-//Plone.org//NONSGML plone.app.event//EN
X-WR-TIMEZONE:Europe/Madrid
BEGIN:VEVENT
SUMMARY:XERRADA: 'Quan dir NO és dir-te SÍ a tu mateixa'
DTSTART;TZID=Europe/Madrid;VALUE=DATE-TIME:20221126T120000
DTEND;TZID=Europe/Madrid;VALUE=DATE-TIME:20221126T130000
DTSTAMP;VALUE=DATE-TIME:20260423T033722Z
UID:a03e640abe6996393d27f9cb684373db
CREATED;VALUE=DATE-TIME:20221126T000000Z
CATEGORIES:Cursos,Conferència
LOCATION:Espai Jove - La Fabriqueta (La Riera 5-9, entrada per Camí Ral).
ORGANIZER:Àrea de Dona i Polítiques d'Igualtat i Biblioteca Can Milans
DESCRIPTION:A càrrec de Norma Isern
URL:https://caldetes.cat/document.php?id=9041
END:VEVENT
END:VCALENDAR