BEGIN:VCALENDAR
VERSION:2.0
PRODID:-//Plone.org//NONSGML plone.app.event//EN
X-WR-TIMEZONE:Europe/Madrid
BEGIN:VEVENT
SUMMARY:FORMACIÓ. Desenvolupament de marca personal a Internet per a la recerca de feina i la venda de productes o serveis.
DTSTART;TZID=Europe/Madrid;VALUE=DATE-TIME:20221014T173000
DTEND;TZID=Europe/Madrid;VALUE=DATE-TIME:20221014T183000
DTSTAMP;VALUE=DATE-TIME:20260421T194034Z
UID:8c08331b60a19acbbd02fd89a6bfa43a
CREATED;VALUE=DATE-TIME:20221014T000000Z
CATEGORIES:Cursos
LOCATION:En línia
ORGANIZER:Les 3 Viles
COMMENT:Preu: Gratuït
URL:https://caldetes.cat/document.php?id=9046
END:VEVENT
END:VCALENDAR