BEGIN:VCALENDAR
VERSION:2.0
PRODID:-//Plone.org//NONSGML plone.app.event//EN
X-WR-TIMEZONE:Europe/Madrid
BEGIN:VEVENT
SUMMARY:FORMACIÓ. Instagram: la xarxa visual que necessiten tots els projectes, professionals i empreses.
DTSTART;TZID=Europe/Madrid;VALUE=DATE-TIME:20221108T173000
DTEND;TZID=Europe/Madrid;VALUE=DATE-TIME:20221108T183000
DTSTAMP;VALUE=DATE-TIME:20260422T043054Z
UID:3158eed81dd2cbfbfbf6e73d3947f970
CREATED;VALUE=DATE-TIME:20221108T000000Z
CATEGORIES:Cursos
LOCATION:En línia
ORGANIZER:Les 3 Viles
COMMENT:Preu: Gratuït
URL:https://caldetes.cat/document.php?id=9048
END:VEVENT
END:VCALENDAR