BEGIN:VCALENDAR
VERSION:2.0
PRODID:-//Plone.org//NONSGML plone.app.event//EN
X-WR-TIMEZONE:Europe/Madrid
BEGIN:VEVENT
SUMMARY:BOTIFARRADA DE MORT
DTSTART;TZID=Europe/Madrid;VALUE=DATE-TIME:20221031T193000
DTEND;TZID=Europe/Madrid;VALUE=DATE-TIME:20221031T203000
DTSTAMP;VALUE=DATE-TIME:20260420T080747Z
UID:b4574e9e53b3d80e5242c62daf0aa4f3
CREATED;VALUE=DATE-TIME:20221031T000000Z
CATEGORIES:Festa
LOCATION:Esplanada Can Muntanyà
ORGANIZER:L'Ajuntament de Caldes d'Estrac i l'AMPA de l'Escola Sagrada Família
COMMENT:Preu: 7 euros per persona adulta i 4 euros per infant
URL:https://caldetes.cat/document.php?id=9068
END:VEVENT
END:VCALENDAR