BEGIN:VCALENDAR
VERSION:2.0
PRODID:-//Plone.org//NONSGML plone.app.event//EN
X-WR-TIMEZONE:Europe/Madrid
BEGIN:VEVENT
SUMMARY:FESTA DE LA CASTANYADA A L'ESCOLA BRESSOL MUNICIPAL
DTSTART;TZID=Europe/Madrid;VALUE=DATE-TIME:20221028T163000
DTEND;TZID=Europe/Madrid;VALUE=DATE-TIME:20221028T173000
DTSTAMP;VALUE=DATE-TIME:20260424T095326Z
UID:ad7f11e6e3822f8d7fd9f9d85f8153d2
CREATED;VALUE=DATE-TIME:20221028T000000Z
CATEGORIES:Festa
LOCATION:Escola Bressol Municipal Sagrada Família - Carrer Mestre Joan Barber s/n
ORGANIZER:L'Ajuntament de Caldes d'Estrac i l'AFA de l'Escola Bressol Municipal Sagrada Família
COMMENT:Preu: Gratuït
URL:https://caldetes.cat/document.php?id=9073
END:VEVENT
END:VCALENDAR