BEGIN:VCALENDAR
VERSION:2.0
PRODID:-//Plone.org//NONSGML plone.app.event//EN
X-WR-TIMEZONE:Europe/Madrid
BEGIN:VEVENT
SUMMARY:MARXA EXPLORATÒRIA AMB PERSPECTIVA DE GÈNERE A CALDES D'ESTRAC
DTSTART;TZID=Europe/Madrid;VALUE=DATE-TIME:20221201T173000
DTEND;TZID=Europe/Madrid;VALUE=DATE-TIME:20221201T183000
DTSTAMP;VALUE=DATE-TIME:20260422T163949Z
UID:c8cb11426acd16f64a06e9bcb1893bc4
CREATED;VALUE=DATE-TIME:20221124T000000Z
LOCATION:Espai Jove - La Fabriqueta (La Riera 5-9, entrada per Camí Ral)
ORGANIZER:Àrea de Dona i Polítiques d'Igualtat i Biblioteca Can Milans
URL:https://caldetes.cat/document.php?id=9084
END:VEVENT
END:VCALENDAR