BEGIN:VCALENDAR
VERSION:2.0
PRODID:-//Plone.org//NONSGML plone.app.event//EN
X-WR-TIMEZONE:Europe/Madrid
BEGIN:VEVENT
SUMMARY:TALLER DE DEFENSA PERSONAL PER A JOVES
DTSTART;TZID=Europe/Madrid;VALUE=DATE-TIME:20221126T180000
DTEND;TZID=Europe/Madrid;VALUE=DATE-TIME:20221126T190000
DTSTAMP;VALUE=DATE-TIME:20260422T164219Z
UID:8630a0e32e4f0c20c2944f9927e0f3dd
CREATED;VALUE=DATE-TIME:20221126T000000Z
LOCATION:Espai Jove - La Fabriqueta (La Riera 5-9, entrada per Camí Ral)
ORGANIZER:Àrea de Dona i Polítiques d'Igualtat i Biblioteca Can Milans
URL:https://caldetes.cat/document.php?id=9085
END:VEVENT
END:VCALENDAR