BEGIN:VCALENDAR
VERSION:2.0
PRODID:-//Plone.org//NONSGML plone.app.event//EN
X-WR-TIMEZONE:Europe/Madrid
BEGIN:VEVENT
SUMMARY:'Gregorià. Concert Solista Comentat'
DTSTART;TZID=Europe/Madrid;VALUE=DATE-TIME:20221217T200000
DTEND;TZID=Europe/Madrid;VALUE=DATE-TIME:20221217T210000
DTSTAMP;VALUE=DATE-TIME:20260423T020022Z
UID:0c2c670d2d9b25701f2b4121c9373251
CREATED;VALUE=DATE-TIME:20221217T000000Z
CATEGORIES:Música
LOCATION:Fundació Palau - La Riera, 54
ORGANIZER:Fundació Palau
COMMENT:Preu: 5 euros (descompte de 2x1 amb el carnet de Biblioteques)
DESCRIPTION:A càrrec de Marc Vilajuana
URL:https://caldetes.cat/document.php?id=9103
END:VEVENT
END:VCALENDAR