BEGIN:VCALENDAR
VERSION:2.0
PRODID:-//Plone.org//NONSGML plone.app.event//EN
X-WR-TIMEZONE:Europe/Madrid
BEGIN:VEVENT
SUMMARY:ELS DIJOUS A LA PALAU
DTSTART;TZID=Europe/Madrid;VALUE=DATE-TIME:20221222T183000
DTEND;TZID=Europe/Madrid;VALUE=DATE-TIME:20221222T193000
DTSTAMP;VALUE=DATE-TIME:20260422T181211Z
UID:ac119ffe751aaf8d114d6bdb4bbee41d
CREATED;VALUE=DATE-TIME:20221222T000000Z
CATEGORIES:Literatura
LOCATION:Fundació Palau - La Riera, 54
ORGANIZER:Fundació Palau
COMMENT:Preu: Gratuït
DESCRIPTION:Presentació del llibre 'Where Mimosa Bloom' de Rita Puig-Serra
URL:https://caldetes.cat/document.php?id=9107
END:VEVENT
END:VCALENDAR