BEGIN:VCALENDAR
VERSION:2.0
PRODID:-//Plone.org//NONSGML plone.app.event//EN
X-WR-TIMEZONE:Europe/Madrid
BEGIN:VEVENT
SUMMARY:ENCESA DELS LLUMS DE NADAL I XOCOLATADA POPULAR
DTSTART;TZID=Europe/Madrid;VALUE=DATE-TIME:20221209T183000
DTEND;TZID=Europe/Madrid;VALUE=DATE-TIME:20221209T193000
DTSTAMP;VALUE=DATE-TIME:20260424T013224Z
UID:4c4a6314a8c6988ec3542140714f1528
CREATED;VALUE=DATE-TIME:20221209T000000Z
CATEGORIES:Festa
LOCATION:Plaça de la Vila - Plaça de la Vila
ORGANIZER:Ajuntament de Caldes d'Estrac
COMMENT:Preu: Els diners recollits es destinaran al viatge de final de curs del centre educatiu
DESCRIPTION:A càrrec de l'alumnat de 6è de Primària de l'Escola Sagrada Família
URL:https://caldetes.cat/document.php?id=9114
END:VEVENT
END:VCALENDAR