BEGIN:VCALENDAR
VERSION:2.0
PRODID:-//Plone.org//NONSGML plone.app.event//EN
X-WR-TIMEZONE:Europe/Madrid
BEGIN:VEVENT
SUMMARY:TALLER DE GUARNIMENTS DE NADAL PER A INFANTS
DTSTART;TZID=Europe/Madrid;VALUE=DATE-TIME:20221213T110000
DTEND;TZID=Europe/Madrid;VALUE=DATE-TIME:20221213T120000
DTSTAMP;VALUE=DATE-TIME:20260426T040927Z
UID:4628b14317da54040fd17cda4c70c53e
CREATED;VALUE=DATE-TIME:20221213T000000Z
CATEGORIES:Festa
LOCATION:Espai Jove de Caldes d'Estrac - La Fabriqueta (La Riera 5-9, entrada per Camí Ral).
ORGANIZER:Ajuntament de Caldes d'Estrac
COMMENT:Preu: Gratuït
DESCRIPTION:A càrrec de Creativa Idees
URL:https://caldetes.cat/document.php?id=9119
END:VEVENT
END:VCALENDAR