BEGIN:VCALENDAR
VERSION:2.0
PRODID:-//Plone.org//NONSGML plone.app.event//EN
X-WR-TIMEZONE:Europe/Madrid
BEGIN:VEVENT
SUMMARY:Parada de Productes de l'Índia
DTSTART;TZID=Europe/Madrid;VALUE=DATE-TIME:20101205T110000
DTEND;TZID=Europe/Madrid;VALUE=DATE-TIME:20101205T120000
DTSTAMP;VALUE=DATE-TIME:20260423T045234Z
UID:1c4b15c465b6bc12d2755ba4d14af446
CREATED;VALUE=DATE-TIME:20101205T000000Z
LOCATION:Parc Joan Maragall
ORGANIZER:Associació "El Somriure dels Nens"
COMMENT:Durada: 3:30 hores
URL:https://caldetes.cat/document.php?id=915
END:VEVENT
END:VCALENDAR