BEGIN:VCALENDAR
VERSION:2.0
PRODID:-//Plone.org//NONSGML plone.app.event//EN
X-WR-TIMEZONE:Europe/Madrid
BEGIN:VEVENT
SUMMARY:CAVALCADA DE REIS
DTSTART;TZID=Europe/Madrid;VALUE=DATE-TIME:20230105T180000
DTEND;TZID=Europe/Madrid;VALUE=DATE-TIME:20230105T190000
DTSTAMP;VALUE=DATE-TIME:20260421T161225Z
UID:e2c355c7ee391c6b7dc328ecedb78de9
CREATED;VALUE=DATE-TIME:20230105T000000Z
CATEGORIES:Festa
ORGANIZER:Ajuntament de Caldes d'Estrac
COMMENT:Preu: Gratuït
URL:https://caldetes.cat/document.php?id=9154
END:VEVENT
END:VCALENDAR