BEGIN:VCALENDAR
VERSION:2.0
PRODID:-//Plone.org//NONSGML plone.app.event//EN
X-WR-TIMEZONE:Europe/Madrid
BEGIN:VEVENT
SUMMARY:ESPECTACLE INFANTIL: Els paisatges del Petit Príncep. Música i Moviment.
DTSTART;TZID=Europe/Madrid;VALUE=DATE-TIME:20230120T180000
DTEND;TZID=Europe/Madrid;VALUE=DATE-TIME:20230120T190000
DTSTAMP;VALUE=DATE-TIME:20260424T042621Z
UID:1bbd9e6196d59b1401ab5f595f2be429
CREATED;VALUE=DATE-TIME:20230120T000000Z
CATEGORIES:Literatura,Infantils
LOCATION:Biblioteca Can Milans - C/ Església, 6
ORGANIZER:Biblioteca Can Milans i Ajuntament de Caldes d'Estrac
COMMENT:Preu: Gratuït
DESCRIPTION:A càrrec d'Eduard Costa
URL:https://caldetes.cat/document.php?id=9158
END:VEVENT
END:VCALENDAR