BEGIN:VCALENDAR
VERSION:2.0
PRODID:-//Plone.org//NONSGML plone.app.event//EN
X-WR-TIMEZONE:Europe/Madrid
BEGIN:VEVENT
SUMMARY:Petanca. Torneig Social de Festa Major d'Hivern
DTSTART;TZID=Europe/Madrid;VALUE=DATE-TIME:20101206T000000
DTEND;TZID=Europe/Madrid;VALUE=DATE-TIME:20101206T010000
DTSTAMP;VALUE=DATE-TIME:20260422T011208Z
UID:1dd20435597188aa467b2c6049b04369
CREATED;VALUE=DATE-TIME:20101206T000000Z
LOCATION:Pistes Municipals de Petanca
ORGANIZER:Club Petanca Caldes d'Estrac
DESCRIPTION:Tirada del pernil
URL:https://caldetes.cat/document.php?id=918
END:VEVENT
END:VCALENDAR