BEGIN:VCALENDAR
VERSION:2.0
PRODID:-//Plone.org//NONSGML plone.app.event//EN
X-WR-TIMEZONE:Europe/Madrid
BEGIN:VEVENT
SUMMARY:Els Diumenges de la Fundació Palau: Màscares Picassianes
DTSTART;TZID=Europe/Madrid;VALUE=DATE-TIME:20230212T113000
DTEND;TZID=Europe/Madrid;VALUE=DATE-TIME:20230212T123000
DTSTAMP;VALUE=DATE-TIME:20260425T193914Z
UID:7cd76bce37c6086168e4041166aae633
CREATED;VALUE=DATE-TIME:20230212T000000Z
CATEGORIES:Infantils
LOCATION:Fundació Palau - La Riera, 54
ORGANIZER:Ajuntament de Caldes d'Estrac i Fundació Palau
COMMENT:Preu: 3 euros per infant
Durada: 1 hora i 30 minuts
DESCRIPTION:Crearem la nostra màscara picassiana passant una estona molt divertida i dinàmica en família
URL:https://caldetes.cat/document.php?id=9184
END:VEVENT
END:VCALENDAR