BEGIN:VCALENDAR
VERSION:2.0
PRODID:-//Plone.org//NONSGML plone.app.event//EN
X-WR-TIMEZONE:Europe/Madrid
BEGIN:VEVENT
SUMMARY:Xerrada: &OpenCurlyDoubleQuote;Com ha de ser un bon llibre infantil? Pautes per triar un llibre infantil il&bull;lustrat&CloseCurlyDoubleQuote;
DTSTART;TZID=Europe/Madrid;VALUE=DATE-TIME:20101210T180000
DTEND;TZID=Europe/Madrid;VALUE=DATE-TIME:20101210T190000
DTSTAMP;VALUE=DATE-TIME:20260422T030814Z
UID:54f41a781a5adb52207156c6754f206a
CREATED;VALUE=DATE-TIME:20101210T000000Z
LOCATION:Biblioteca Can Milans
ORGANIZER:Associació de Dones de Caldes d'Estrac i Biblioteca Can Milans
URL:https://caldetes.cat/document.php?id=919
END:VEVENT
END:VCALENDAR