BEGIN:VCALENDAR
VERSION:2.0
PRODID:-//Plone.org//NONSGML plone.app.event//EN
X-WR-TIMEZONE:Europe/Madrid
BEGIN:VEVENT
SUMMARY:Strak Show
DTSTART;TZID=Europe/Madrid;VALUE=DATE-TIME:20101210T220000
DTEND;TZID=Europe/Madrid;VALUE=DATE-TIME:20101210T230000
DTSTAMP;VALUE=DATE-TIME:20260424T160748Z
UID:5c4d63288bd12046eacd7f36895d45a2
CREATED;VALUE=DATE-TIME:20101210T000000Z
LOCATION:Sala Cultural
ORGANIZER:Strak Teatre
DESCRIPTION:Espectacle de varietés a càrrec d'Strak Teatre
URL:https://caldetes.cat/document.php?id=920
END:VEVENT
END:VCALENDAR