BEGIN:VCALENDAR
VERSION:2.0
PRODID:-//Plone.org//NONSGML plone.app.event//EN
X-WR-TIMEZONE:Europe/Madrid
BEGIN:VEVENT
SUMMARY:Taller d'experimentació poètica
DTSTART;TZID=Europe/Madrid;VALUE=DATE-TIME:20230304T180000
DTEND;TZID=Europe/Madrid;VALUE=DATE-TIME:20230304T190000
DTSTAMP;VALUE=DATE-TIME:20260420T224758Z
UID:ce6fa88ec1fb0b775cda66ef90686bc2
CREATED;VALUE=DATE-TIME:20230304T000000Z
CATEGORIES:Infantils
LOCATION:Fundació Palau - La Riera, 54
ORGANIZER:Fundació Palau i Ajuntament de Caldes d'Estrac
COMMENT:Preu: 3 euros per infant
Durada: 1 hores i 30 minuts
DESCRIPTION:A càrrec de Laura Torres
URL:https://caldetes.cat/document.php?id=9236
END:VEVENT
END:VCALENDAR