BEGIN:VCALENDAR
VERSION:2.0
PRODID:-//Plone.org//NONSGML plone.app.event//EN
X-WR-TIMEZONE:Europe/Madrid
BEGIN:VEVENT
SUMMARY:Petit Correfoc d'Hivern
DTSTART;TZID=Europe/Madrid;VALUE=DATE-TIME:20101211T190000
DTEND;TZID=Europe/Madrid;VALUE=DATE-TIME:20101211T200000
DTSTAMP;VALUE=DATE-TIME:20260425T231109Z
UID:4b6c72d338eb6ebd22697ce9d10bd201
CREATED;VALUE=DATE-TIME:20101211T000000Z
LOCATION:Plaça Sant Antoni
ORGANIZER:Diables d'Estrac
URL:https://caldetes.cat/document.php?id=925
END:VEVENT
END:VCALENDAR