BEGIN:VCALENDAR
VERSION:2.0
PRODID:-//Plone.org//NONSGML plone.app.event//EN
X-WR-TIMEZONE:Europe/Madrid
BEGIN:VEVENT
SUMMARY:HORA DEL CONTE. 'Canta´m un conte. La Sirena i els Amics del Mar'. A càrrec d´Anna Martínez Norberto.
DTSTART;TZID=Europe/Madrid;VALUE=DATE-TIME:20230604T170000
DTEND;TZID=Europe/Madrid;VALUE=DATE-TIME:20230604T180000
DTSTAMP;VALUE=DATE-TIME:20260422T180954Z
UID:099d193f2873a4c6c3361f272400427b
CREATED;VALUE=DATE-TIME:20230604T000000Z
CATEGORIES:Literatura,Infantils
LOCATION:Consulteu el programa d'activitats de la fira
ORGANIZER:Ajuntament de Caldes d'Estrac- Àrea de Promoció Econòmica i Turisme. Col·labora: Biblioteca Can Milans
COMMENT:Preu: Gratuït
DESCRIPTION:Dins els actes de la FIRA AQUA CÀLIDA
URL:https://caldetes.cat/document.php?id=9298
END:VEVENT
END:VCALENDAR