BEGIN:VCALENDAR
VERSION:2.0
PRODID:-//Plone.org//NONSGML plone.app.event//EN
X-WR-TIMEZONE:Europe/Madrid
BEGIN:VEVENT
SUMMARY:'La mar de poesia'. Cada dia un poema.
DTSTART;TZID=Europe/Madrid;VALUE=DATE-TIME:20230320T000000
DTEND;TZID=Europe/Madrid;VALUE=DATE-TIME:20230320T010000
DTSTAMP;VALUE=DATE-TIME:20260422T140023Z
UID:138ba0a176f2b62a8936356e959fbf4a
CREATED;VALUE=DATE-TIME:20230320T000000Z
CATEGORIES:Literatura
LOCATION:A l'Instagram de la biblioteca: @bcanmilans
ORGANIZER:Biblioteca Can Milans
COMMENT:Durada: Del 20 al 24 de març. Cada dia, un poema.
DESCRIPTION:21-03. Dia Mundial de la Poesia
URL:https://caldetes.cat/document.php?id=9308
END:VEVENT
END:VCALENDAR