BEGIN:VCALENDAR
VERSION:2.0
PRODID:-//Plone.org//NONSGML plone.app.event//EN
X-WR-TIMEZONE:Europe/Madrid
BEGIN:VEVENT
SUMMARY:Els dijous a la Palau. Cicle de filosofía. 3a sessió
DTSTART;TZID=Europe/Madrid;VALUE=DATE-TIME:20230330T183000
DTEND;TZID=Europe/Madrid;VALUE=DATE-TIME:20230330T193000
DTSTAMP;VALUE=DATE-TIME:20260424T171730Z
UID:85df7d2e93259e706964ed8b8f3d09b3
CREATED;VALUE=DATE-TIME:20230330T000000Z
CATEGORIES:Literatura
LOCATION:Fundació Palau - La Riera, 54
ORGANIZER:Fundació Palau
COMMENT:Preu: Gratuït
Durada: 1h
DESCRIPTION:"De La Ben Plantada a les senyoretes d'Avinyó. Palau contra d'Ors"
URL:https://caldetes.cat/document.php?id=9309
END:VEVENT
END:VCALENDAR