BEGIN:VCALENDAR
VERSION:2.0
PRODID:-//Plone.org//NONSGML plone.app.event//EN
X-WR-TIMEZONE:Europe/Madrid
BEGIN:VEVENT
SUMMARY:Encesa de llums de l'arbre de Nadal
DTSTART;TZID=Europe/Madrid;VALUE=DATE-TIME:20101213T180000
DTEND;TZID=Europe/Madrid;VALUE=DATE-TIME:20101213T190000
DTSTAMP;VALUE=DATE-TIME:20260422T173615Z
UID:49b043714e54535e2ad795a58bedb39d
CREATED;VALUE=DATE-TIME:20101213T000000Z
LOCATION:Plaça de la Vila
ORGANIZER:Ajuntament de Caldes d'Estrac
URL:https://caldetes.cat/document.php?id=931
END:VEVENT
END:VCALENDAR