BEGIN:VCALENDAR
VERSION:2.0
PRODID:-//Plone.org//NONSGML plone.app.event//EN
X-WR-TIMEZONE:Europe/Madrid
BEGIN:VEVENT
SUMMARY:CLUB DE LECTURA. 'El conte de la Serventa'. Margaret Atwood.
DTSTART;TZID=Europe/Madrid;VALUE=DATE-TIME:20230430T110000
DTEND;TZID=Europe/Madrid;VALUE=DATE-TIME:20230430T120000
DTSTAMP;VALUE=DATE-TIME:20260421T144306Z
UID:f31505706a167f9cc48443ac0fea8e00
CREATED;VALUE=DATE-TIME:20230430T000000Z
CATEGORIES:Literatura
LOCATION:Biblioteca Can Milans - C/ Esglèsia, 6
ORGANIZER:Biblioteca Can Milans
DESCRIPTION:Dinamitza: Èlia Portús
URL:https://caldetes.cat/document.php?id=9315
END:VEVENT
END:VCALENDAR