BEGIN:VCALENDAR
VERSION:2.0
PRODID:-//Plone.org//NONSGML plone.app.event//EN
X-WR-TIMEZONE:Europe/Madrid
BEGIN:VEVENT
SUMMARY:PRESENTACIÓ DEL PROGRAMA POESIA i + 2023
DTSTART;TZID=Europe/Madrid;VALUE=DATE-TIME:20230608T193000
DTEND;TZID=Europe/Madrid;VALUE=DATE-TIME:20230608T203000
DTSTAMP;VALUE=DATE-TIME:20260423T161630Z
UID:aae0e039dbc531bd6edf335fdec6b3f7
CREATED;VALUE=DATE-TIME:20230608T000000Z
CATEGORIES:Música
LOCATION:Fundació Palau - La Riera, 54
ORGANIZER:Fundació Palau
COMMENT:Preu: Entrada lliure
DESCRIPTION:PRESENTEM EL PROGRAMA DEL POESIA i + 2023 EN COMPANYIA DE NEUS BORRELL I MIQUEL JOAN QUE ENS PRESENTEN EL SEU DARRER DISC &OpenCurlyDoubleQuote;EL COS PER CAURE&CloseCurlyDoubleQuote;
URL:https://caldetes.cat/document.php?id=9364
END:VEVENT
END:VCALENDAR