BEGIN:VCALENDAR
VERSION:2.0
PRODID:-//Plone.org//NONSGML plone.app.event//EN
X-WR-TIMEZONE:Europe/Madrid
BEGIN:VEVENT
SUMMARY:RUTA HORTA D´EBRE
DTSTART;TZID=Europe/Madrid;VALUE=DATE-TIME:20230610T073000
DTEND;TZID=Europe/Madrid;VALUE=DATE-TIME:20230610T083000
DTSTAMP;VALUE=DATE-TIME:20260422T140055Z
UID:a5fb195052dee2b67335d08f3dfa496d
CREATED;VALUE=DATE-TIME:20230610T000000Z
LOCATION:Pàrquing dels Eucaliptus
ORGANIZER:Fundació Palau
COMMENT:Preu: 70&euro;
DESCRIPTION:Activitat entorn l´exposició de fotografies de Jean Marie del Moral &OpenCurlyDoubleQuote;Horta Picasso Miró Mont-roig&CloseCurlyDoubleQuote;
URL:https://caldetes.cat/document.php?id=9368
END:VEVENT
END:VCALENDAR