BEGIN:VCALENDAR
VERSION:2.0
PRODID:-//Plone.org//NONSGML plone.app.event//EN
X-WR-TIMEZONE:Europe/Madrid
BEGIN:VEVENT
SUMMARY:Hora del conte: "Les portes del cel"
DTSTART;TZID=Europe/Madrid;VALUE=DATE-TIME:20101217T183000
DTEND;TZID=Europe/Madrid;VALUE=DATE-TIME:20101217T193000
DTSTAMP;VALUE=DATE-TIME:20260421T052648Z
UID:488d6230df6376be34214d9524fd8d80
CREATED;VALUE=DATE-TIME:20101217T000000Z
LOCATION:Biblioteca Can Milans
ORGANIZER:Biblioteca Can Milans
DESCRIPTION:a càrrec d'Ada Cusidó
URL:https://caldetes.cat/document.php?id=937
END:VEVENT
END:VCALENDAR