BEGIN:VCALENDAR
VERSION:2.0
PRODID:-//Plone.org//NONSGML plone.app.event//EN
X-WR-TIMEZONE:Europe/Madrid
BEGIN:VEVENT
SUMMARY:Dia internacional dels Museus
DTSTART;TZID=Europe/Madrid;VALUE=DATE-TIME:20230520T200000
DTEND;TZID=Europe/Madrid;VALUE=DATE-TIME:20230520T210000
DTSTAMP;VALUE=DATE-TIME:20260422T164608Z
UID:e26cdec573e6605c8ec13e14c7c1d01d
CREATED;VALUE=DATE-TIME:20230520T000000Z
CATEGORIES:Música
LOCATION:Fundació Palau - La Riera, 54
ORGANIZER:Fundació Palau
COMMENT:Preu: 8&euro;
DESCRIPTION:&OpenCurlyQuote;Al mar, Maragall´ a càrrec de Poètic trio i Jorge Quesada
URL:https://caldetes.cat/document.php?id=9373
END:VEVENT
END:VCALENDAR