BEGIN:VCALENDAR
VERSION:2.0
PRODID:-//Plone.org//NONSGML plone.app.event//EN
X-WR-TIMEZONE:Europe/Madrid
BEGIN:VEVENT
SUMMARY:Revetlla Popular de Sant Joan a la platja - Associació de Pescadors
DTSTART;TZID=Europe/Madrid;VALUE=DATE-TIME:20230623T210000
DTEND;TZID=Europe/Madrid;VALUE=DATE-TIME:20230623T220000
DTSTAMP;VALUE=DATE-TIME:20260423T015837Z
UID:3862a0914ca2b8894ba4bdb6a1e2c4ca
CREATED;VALUE=DATE-TIME:20230623T000000Z
CATEGORIES:Festa,Música
LOCATION:Altre (ho explico més avall) - Platja de les Barques
URL:https://caldetes.cat/document.php?id=9397
END:VEVENT
END:VCALENDAR