BEGIN:VCALENDAR
VERSION:2.0
PRODID:-//Plone.org//NONSGML plone.app.event//EN
X-WR-TIMEZONE:Europe/Madrid
BEGIN:VEVENT
SUMMARY:Missa del Gall
DTSTART;TZID=Europe/Madrid;VALUE=DATE-TIME:20101224T230000
DTEND;TZID=Europe/Madrid;VALUE=DATE-TIME:20101225T000000
DTSTAMP;VALUE=DATE-TIME:20260421T174221Z
UID:8c80960845f1e217462d42ded9c4f4f6
CREATED;VALUE=DATE-TIME:20101224T000000Z
LOCATION:Parròquia Santa Maria
ORGANIZER:Parròquia de Santa Maria
URL:https://caldetes.cat/document.php?id=942
END:VEVENT
END:VCALENDAR