BEGIN:VCALENDAR
VERSION:2.0
PRODID:-//Plone.org//NONSGML plone.app.event//EN
X-WR-TIMEZONE:Europe/Madrid
BEGIN:VEVENT
SUMMARY:Roger Robinson
DTSTART;TZID=Europe/Madrid;VALUE=DATE-TIME:20230707T210000
DTEND;TZID=Europe/Madrid;VALUE=DATE-TIME:20230707T220000
DTSTAMP;VALUE=DATE-TIME:20260420T093116Z
UID:03f304e6fdba455aea8bb28036434e42
CREATED;VALUE=DATE-TIME:20230707T000000Z
CATEGORIES:Literatura
LOCATION:Sala Cultural - 1r pis de l'Ajuntament de Caldes d'Estrac, Pl. de la Vila s/n
ORGANIZER:Fundació Palau i Ajuntament Caldes D' estrac
COMMENT:Preu: 18 &euro;
Durada: 21 h (obertura de portes a les 20 h)
URL:https://caldetes.cat/document.php?id=9423
END:VEVENT
END:VCALENDAR