BEGIN:VCALENDAR
VERSION:2.0
PRODID:-//Plone.org//NONSGML plone.app.event//EN
X-WR-TIMEZONE:Europe/Madrid
BEGIN:VEVENT
SUMMARY:RUTA LITERÀRIA:  &OpenCurlyDoubleQuote;Passejades a Caldes&CloseCurlyDoubleQuote;  A càrrec de Manuel Llanas
DTSTART;TZID=Europe/Madrid;VALUE=DATE-TIME:20230903T110000
DTEND;TZID=Europe/Madrid;VALUE=DATE-TIME:20230903T120000
DTSTAMP;VALUE=DATE-TIME:20260425T202556Z
UID:c915e2ae431faaca7abf9e384f971b12
CREATED;VALUE=DATE-TIME:20230903T000000Z
CATEGORIES:Literatura
LOCATION:Biblioteca Can Milans - C/ Esglèsia, 6
ORGANIZER:Biblioteca &OpenCurlyDoubleQuote;Can Milans&CloseCurlyDoubleQuote;
URL:https://caldetes.cat/document.php?id=9456
END:VEVENT
END:VCALENDAR