BEGIN:VCALENDAR
VERSION:2.0
PRODID:-//Plone.org//NONSGML plone.app.event//EN
X-WR-TIMEZONE:Europe/Madrid
BEGIN:VEVENT
SUMMARY:Conversa entre Jean Marie del Moral i Biel Mesquida
DTSTART;TZID=Europe/Madrid;VALUE=DATE-TIME:20230721T190000
DTEND;TZID=Europe/Madrid;VALUE=DATE-TIME:20230721T200000
DTSTAMP;VALUE=DATE-TIME:20260422T140540Z
UID:182aaa9825581f612d1ee2c3000dde5b
CREATED;VALUE=DATE-TIME:20230721T000000Z
CATEGORIES:Exposició,Literatura
LOCATION:Fundació Palau - La Riera, 54
ORGANIZER:Fundació Palau
COMMENT:Preu: Accés lliure
Durada: 1h
URL:https://caldetes.cat/document.php?id=9460
END:VEVENT
END:VCALENDAR