BEGIN:VCALENDAR
VERSION:2.0
PRODID:-//Plone.org//NONSGML plone.app.event//EN
X-WR-TIMEZONE:Europe/Madrid
BEGIN:VEVENT
SUMMARY:CANTADA D´HAVANERES amb Els Cremats
DTSTART;TZID=Europe/Madrid;VALUE=DATE-TIME:20230923T200000
DTEND;TZID=Europe/Madrid;VALUE=DATE-TIME:20230923T210000
DTSTAMP;VALUE=DATE-TIME:20260422T151751Z
UID:f21a599bc354540ba1dcd0cb0f6fd2cb
CREATED;VALUE=DATE-TIME:20230923T000000Z
CATEGORIES:Música
LOCATION:Parc Joan Maragall
COMMENT:Preu: Gratuït
URL:https://caldetes.cat/document.php?id=9509
END:VEVENT
END:VCALENDAR