BEGIN:VCALENDAR
VERSION:2.0
PRODID:-//Plone.org//NONSGML plone.app.event//EN
X-WR-TIMEZONE:Europe/Madrid
BEGIN:VEVENT
SUMMARY:Torneig de petanca de Festa Major Sènior
DTSTART;TZID=Europe/Madrid;VALUE=DATE-TIME:20230923T170000
DTEND;TZID=Europe/Madrid;VALUE=DATE-TIME:20230923T180000
DTSTAMP;VALUE=DATE-TIME:20260424T014153Z
UID:910fdeab9da7e5102434e6065144c8f2
CREATED;VALUE=DATE-TIME:20230923T000000Z
CATEGORIES:Esports
LOCATION:Pistes Municipals de Petanca
URL:https://caldetes.cat/document.php?id=9510
END:VEVENT
END:VCALENDAR