BEGIN:VCALENDAR
VERSION:2.0
PRODID:-//Plone.org//NONSGML plone.app.event//EN
X-WR-TIMEZONE:Europe/Madrid
BEGIN:VEVENT
SUMMARY:CONCERT-GIRA EDU ESTEVE 2023
DTSTART;TZID=Europe/Madrid;VALUE=DATE-TIME:20230908T233000
DTEND;TZID=Europe/Madrid;VALUE=DATE-TIME:20230909T003000
DTSTAMP;VALUE=DATE-TIME:20260421T173835Z
UID:f79e5acb4df9d5b6e782c6559b121ba9
CREATED;VALUE=DATE-TIME:20230908T000000Z
CATEGORIES:Música
LOCATION:Esplanada Can Muntanyà
COMMENT:Preu: Gratuït
DESCRIPTION:Després del seu pas pel programa Eufòria de TV3, presentarà el seu últim disc: "Ara o Mai".
URL:https://caldetes.cat/document.php?id=9511
END:VEVENT
END:VCALENDAR