BEGIN:VCALENDAR
VERSION:2.0
PRODID:-//Plone.org//NONSGML plone.app.event//EN
X-WR-TIMEZONE:Europe/Madrid
BEGIN:VEVENT
SUMMARY:TALLERS/PONÈNCIES: 'Història musical dels Beatles'. Sessió I
DTSTART;TZID=Europe/Madrid;VALUE=DATE-TIME:20231106T173000
DTEND;TZID=Europe/Madrid;VALUE=DATE-TIME:20231106T183000
DTSTAMP;VALUE=DATE-TIME:20260421T185702Z
UID:1fc086c2b727c5853338f0a08f9efbd9
CREATED;VALUE=DATE-TIME:20231106T000000Z
CATEGORIES:Música,Conferència
LOCATION:Biblioteca Can Milans - C/ Esglèsia, 6
ORGANIZER:Biblioteca Can Milans i ajuntament de Caldes d'Estrac
COMMENT:Preu: Gratuït
Durada: SESSIONS: 6, 13, 20 i 27 de novembre, de 17:30 a 19:00 h.
DESCRIPTION:Amb Josep Arañó.
URL:https://caldetes.cat/document.php?id=9588
END:VEVENT
END:VCALENDAR