BEGIN:VCALENDAR
VERSION:2.0
PRODID:-//Plone.org//NONSGML plone.app.event//EN
X-WR-TIMEZONE:Europe/Madrid
BEGIN:VEVENT
SUMMARY:TALLER PER A INFANTS DE CISTELLS DE CASTANYER/A
DTSTART;TZID=Europe/Madrid;VALUE=DATE-TIME:20231031T170000
DTEND;TZID=Europe/Madrid;VALUE=DATE-TIME:20231031T180000
DTSTAMP;VALUE=DATE-TIME:20260423T020054Z
UID:8d351a5263a61555802d91f9c86c7a33
CREATED;VALUE=DATE-TIME:20231031T000000Z
CATEGORIES:Infantils
LOCATION:Esplanada Can Muntanyà
ORGANIZER:Àrea de Cultura
COMMENT:Preu: Gratuït
Durada: DE 17H A 19H
URL:https://caldetes.cat/document.php?id=9622
END:VEVENT
END:VCALENDAR