BEGIN:VCALENDAR
VERSION:2.0
PRODID:-//Plone.org//NONSGML plone.app.event//EN
X-WR-TIMEZONE:Europe/Madrid
BEGIN:VEVENT
SUMMARY:Cicle de Lectures dramatitzades
DTSTART;TZID=Europe/Madrid;VALUE=DATE-TIME:20230914T183000
DTEND;TZID=Europe/Madrid;VALUE=DATE-TIME:20230914T193000
DTSTAMP;VALUE=DATE-TIME:20260426T040913Z
UID:351deb0c5c793d533d9245e279a1c171
CREATED;VALUE=DATE-TIME:20230914T000000Z
CATEGORIES:Literatura
LOCATION:Fundació Palau - La Riera, 54
ORGANIZER:Fundació Palau
COMMENT:Preu: Entrada lliure
Durada: 1h
DESCRIPTION:A càrrec d'Anna Maluquer
URL:https://caldetes.cat/document.php?id=9646
END:VEVENT
END:VCALENDAR