BEGIN:VCALENDAR
VERSION:2.0
PRODID:-//Plone.org//NONSGML plone.app.event//EN
X-WR-TIMEZONE:Europe/Madrid
BEGIN:VEVENT
SUMMARY:TALLER DE DEFENSA PERSONAL PER A JOVES
DTSTART;TZID=Europe/Madrid;VALUE=DATE-TIME:20231124T173000
DTEND;TZID=Europe/Madrid;VALUE=DATE-TIME:20231124T183000
DTSTAMP;VALUE=DATE-TIME:20260424T054727Z
UID:113702905983dc3b38e315bf141e7440
CREATED;VALUE=DATE-TIME:20231124T000000Z
LOCATION:Pavelló Poliesportiu Municipal - Carretera N-II, km 654
ORGANIZER:Espai Jove
DESCRIPTION:a càrrec d´Aikido Estrac
URL:https://caldetes.cat/document.php?id=9660
END:VEVENT
END:VCALENDAR