BEGIN:VCALENDAR
VERSION:2.0
PRODID:-//Plone.org//NONSGML plone.app.event//EN
X-WR-TIMEZONE:Europe/Madrid
BEGIN:VEVENT
SUMMARY:Visita guiada
DTSTART;TZID=Europe/Madrid;VALUE=DATE-TIME:20231029T120000
DTEND;TZID=Europe/Madrid;VALUE=DATE-TIME:20231029T130000
DTSTAMP;VALUE=DATE-TIME:20260422T060521Z
UID:d86e6bfec5fdbbbc58bd6d15a20ac9a0
CREATED;VALUE=DATE-TIME:20231029T000000Z
CATEGORIES:Exposició
LOCATION:Fundació Palau - La Riera, 54
ORGANIZER:Fundació Palau
COMMENT:Preu: 6&euro;
Durada: 1h
DESCRIPTION:de l´exposició &OpenCurlyQuote;Picasso a la retina. Retrats d´artistes catalans
URL:https://caldetes.cat/document.php?id=9668
END:VEVENT
END:VCALENDAR