BEGIN:VCALENDAR
VERSION:2.0
PRODID:-//Plone.org//NONSGML plone.app.event//EN
X-WR-TIMEZONE:Europe/Madrid
BEGIN:VEVENT
SUMMARY:Dinar popular - Fideuà diablera
DTSTART;TZID=Europe/Madrid;VALUE=DATE-TIME:20231126T120000
DTEND;TZID=Europe/Madrid;VALUE=DATE-TIME:20231126T130000
DTSTAMP;VALUE=DATE-TIME:20260424T030413Z
UID:a025acf46d7490057d85d4a51ddcc764
CREATED;VALUE=DATE-TIME:20231126T000000Z
LOCATION:Esplanada Can Muntanyà
ORGANIZER:Diables d'Estrac
COMMENT:Preu: Venda de tiquets de la fideuà als establiments: SOLETICO i DAIMA ESTANC. 10&euro; adult i 8&euro; infantil.
DESCRIPTION:Amb música, servei de bar i el sorteig d'una magnífica panera
URL:https://caldetes.cat/document.php?id=9680
END:VEVENT
END:VCALENDAR