BEGIN:VCALENDAR
VERSION:2.0
PRODID:-//Plone.org//NONSGML plone.app.event//EN
X-WR-TIMEZONE:Europe/Madrid
BEGIN:VEVENT
SUMMARY:CORREFOC INFANTIL
DTSTART;TZID=Europe/Madrid;VALUE=DATE-TIME:20231216T190000
DTEND;TZID=Europe/Madrid;VALUE=DATE-TIME:20231216T200000
DTSTAMP;VALUE=DATE-TIME:20260423T074725Z
UID:07344728766948d1684b54c3ac96fc0f
CREATED;VALUE=DATE-TIME:20231216T000000Z
CATEGORIES:Infantils
LOCATION:Pels carrers del poble
ORGANIZER:Colla de Diables d'Estrac
URL:https://caldetes.cat/document.php?id=9693
END:VEVENT
END:VCALENDAR