BEGIN:VCALENDAR
VERSION:2.0
PRODID:-//Plone.org//NONSGML plone.app.event//EN
X-WR-TIMEZONE:Europe/Madrid
BEGIN:VEVENT
SUMMARY:TALLER INFANTIL
DTSTART;TZID=Europe/Madrid;VALUE=DATE-TIME:20231213T110000
DTEND;TZID=Europe/Madrid;VALUE=DATE-TIME:20231213T120000
DTSTAMP;VALUE=DATE-TIME:20260425T214243Z
UID:ac20e9654e6d67e9936d70774f779e62
CREATED;VALUE=DATE-TIME:20231213T000000Z
CATEGORIES:Infantils
LOCATION:Espai Jove - La Fabriqueta (La Riera 5-9, entrada per Camí Ral).
ORGANIZER:A càrrec de Catàrtic
COMMENT:Preu: gartuít
DESCRIPTION:Fes el teu portaespelma nadalenc
URL:https://caldetes.cat/document.php?id=9701
END:VEVENT
END:VCALENDAR