BEGIN:VCALENDAR
VERSION:2.0
PRODID:-//Plone.org//NONSGML plone.app.event//EN
X-WR-TIMEZONE:Europe/Madrid
BEGIN:VEVENT
SUMMARY:ESPECTACLE VISUAL: El Professor Bromera
DTSTART;TZID=Europe/Madrid;VALUE=DATE-TIME:20231223T113000
DTEND;TZID=Europe/Madrid;VALUE=DATE-TIME:20231223T123000
DTSTAMP;VALUE=DATE-TIME:20260423T074115Z
UID:ce23a002c694215ffbf4bc8e0f9389d2
CREATED;VALUE=DATE-TIME:20231223T000000Z
CATEGORIES:Infantils,Teatre
LOCATION:Sala Cultural - 1r pis de l'Ajuntament de Caldes d'Estrac, Pl. de la Vila s/n
COMMENT:Preu: Gratuït
URL:https://caldetes.cat/document.php?id=9726
END:VEVENT
END:VCALENDAR