BEGIN:VCALENDAR
VERSION:2.0
PRODID:-//Plone.org//NONSGML plone.app.event//EN
X-WR-TIMEZONE:Europe/Madrid
BEGIN:VEVENT
SUMMARY:TALLER. Dones de foc.
DTSTART;TZID=Europe/Madrid;VALUE=DATE-TIME:20240308T170000
DTEND;TZID=Europe/Madrid;VALUE=DATE-TIME:20240308T180000
DTSTAMP;VALUE=DATE-TIME:20260422T105806Z
UID:c0b6cdab036767c49f51799fd8e54f6b
CREATED;VALUE=DATE-TIME:20240308T000000Z
CATEGORIES:Dansa,Literatura,Música
LOCATION:Sala Cultural. 1r pis. Ajuntament de Caldes d'Estrac - 1r pis de l'Ajuntament de Caldes d'Estrac, Pl. de la Vila s/n
ORGANIZER:Biblioteca Can Milans i ajuntament de Caldes d'Estrac
COMMENT:Preu: Gratuït
Durada: De 17 a 20h. Cal inscripció prèvia. Del 7 de febrer al 7 de març. A la biblioteca o trucant al 937913025. Places limitades.
DESCRIPTION:A càrrec de Montse Moreno
URL:https://caldetes.cat/document.php?id=9745
END:VEVENT
END:VCALENDAR