BEGIN:VCALENDAR
VERSION:2.0
PRODID:-//Plone.org//NONSGML plone.app.event//EN
X-WR-TIMEZONE:Europe/Madrid
BEGIN:VEVENT
SUMMARY:HORA DEL CONTE. El Circ de drap.
DTSTART;TZID=Europe/Madrid;VALUE=DATE-TIME:20240126T180000
DTEND;TZID=Europe/Madrid;VALUE=DATE-TIME:20240126T190000
DTSTAMP;VALUE=DATE-TIME:20260421T201920Z
UID:ee2d39703727b246c49f4e51b4b46b4a
CREATED;VALUE=DATE-TIME:20240126T000000Z
CATEGORIES:Literatura,Infantils
LOCATION:Biblioteca Can Milans - C/ Esglèsia, 6
ORGANIZER:Biblioteca Can Milans i ajuntament de Caldes d'Estrac
COMMENT:Preu: Gratuït
DESCRIPTION:A càrrec de Marta Catalan.
URL:https://caldetes.cat/document.php?id=9748
END:VEVENT
END:VCALENDAR